BEGIN:VCALENDAR
VERSION:2.0
PRODID:-//Moses Guest - ECPv6.15.20//NONSGML v1.0//EN
CALSCALE:GREGORIAN
METHOD:PUBLISH
X-WR-CALNAME:Moses Guest
X-ORIGINAL-URL:https://www.mosesguest.com
X-WR-CALDESC:Events for Moses Guest
REFRESH-INTERVAL;VALUE=DURATION:PT1H
X-Robots-Tag:noindex
X-PUBLISHED-TTL:PT1H
BEGIN:VTIMEZONE
TZID:UTC
BEGIN:STANDARD
TZOFFSETFROM:+0000
TZOFFSETTO:+0000
TZNAME:UTC
DTSTART:20240101T000000
END:STANDARD
END:VTIMEZONE
BEGIN:VEVENT
DTSTART;TZID=UTC:20250927T154500
DTEND;TZID=UTC:20250927T170000
DTSTAMP:20260419T205751
CREATED:20250820T002618Z
LAST-MODIFIED:20250901T043047Z
UID:10000002-1758987900-1758992400@www.mosesguest.com
SUMMARY:Moses Guest at River Revival Music Fest
DESCRIPTION:
URL:https://www.mosesguest.com/show/moses-guest-at-river-revival-music-fest-2/
LOCATION:River Revival Music Fest\, 5455 River Rd\, New Braunfels\, TX\, 78132\, US
ATTACH;FMTTYPE=image/webp:https://www.mosesguest.com/wp-content/uploads/2025/08/riverrevival_11x17_IGpost-scaled.webp
END:VEVENT
BEGIN:VEVENT
DTSTART;TZID=UTC:20250926T193000
DTEND;TZID=UTC:20250926T204500
DTSTAMP:20260419T205751
CREATED:20250820T000855Z
LAST-MODIFIED:20250901T083822Z
UID:10000003-1758915000-1758919500@www.mosesguest.com
SUMMARY:Moses Guest at River Revival Music Fest
DESCRIPTION:
URL:https://www.mosesguest.com/show/moses-guest-at-river-revival-music-fest/
LOCATION:River Revival Music Fest\, 5455 River Rd\, New Braunfels\, TX\, 78132\, US
ATTACH;FMTTYPE=image/webp:https://www.mosesguest.com/wp-content/uploads/2025/08/riverrevival_11x17_IGpost-scaled.webp
END:VEVENT
END:VCALENDAR