BEGIN:VCALENDAR
VERSION:2.0
PRODID:-//Moses Guest - ECPv6.15.20//NONSGML v1.0//EN
CALSCALE:GREGORIAN
METHOD:PUBLISH
X-ORIGINAL-URL:https://www.mosesguest.com
X-WR-CALDESC:Events for Moses Guest
REFRESH-INTERVAL;VALUE=DURATION:PT1H
X-Robots-Tag:noindex
X-PUBLISHED-TTL:PT1H
BEGIN:VTIMEZONE
TZID:UTC
BEGIN:STANDARD
TZOFFSETFROM:+0000
TZOFFSETTO:+0000
TZNAME:UTC
DTSTART:20250101T000000
END:STANDARD
END:VTIMEZONE
BEGIN:VEVENT
DTSTART;TZID=UTC:20260215T200000
DTEND;TZID=UTC:20260215T230000
DTSTAMP:20260419T175548
CREATED:20260114T140913Z
LAST-MODIFIED:20260114T143839Z
UID:10000004-1771185600-1771196400@www.mosesguest.com
SUMMARY:Moses Guest at Heights Theater in Houston
DESCRIPTION:Opening for Sons of Cream. \nBuy Tickets.
URL:https://www.mosesguest.com/show/moses-guest-at-heights-theater-in-houston/
LOCATION:The Heights Theater\, 339 W. 19th Street\, Houston\, Texas\, 77008\, US
END:VEVENT
END:VCALENDAR